BEGIN:VCALENDAR
VERSION:2.0
PRODID:-//Real Options for City Kids (R.O.C.K.) - ECPv4.9.13//NONSGML v1.0//EN
CALSCALE:GREGORIAN
METHOD:PUBLISH
X-WR-CALNAME:Real Options for City Kids (R.O.C.K.)
X-ORIGINAL-URL:https://rocksf.org
X-WR-CALDESC:Events for Real Options for City Kids (R.O.C.K.)
BEGIN:VTIMEZONE
TZID:America/Los_Angeles
BEGIN:DAYLIGHT
TZOFFSETFROM:-0800
TZOFFSETTO:-0700
TZNAME:PDT
DTSTART:20260308T100000
END:DAYLIGHT
BEGIN:STANDARD
TZOFFSETFROM:-0700
TZOFFSETTO:-0800
TZNAME:PST
DTSTART:20261101T090000
END:STANDARD
END:VTIMEZONE
BEGIN:VEVENT
DTSTART;TZID=America/Los_Angeles:20260607T070000
DTEND;TZID=America/Los_Angeles:20260607T150000
DTSTAMP:20260425T124126
CREATED:20251118T224100Z
LAST-MODIFIED:20260316T190647Z
UID:12800-1780815600-1780844400@rocksf.org
SUMMARY:Team R.O.C.K. – Escape from Alcatraz Triathlon 2026
DESCRIPTION:For the 16th year\, R.O.C.K. is proud to be the only local charity partner of the 2026 Escape from Alcatraz Triathlon—and we want you to join our team! We’re excited to see our Escape athletes dive into the waters of the San Francisco Bay on Sunday\, June 7\, 2026.\n\nThis is your chance to tap into your personal strength\, determination\, and grit as you compete in this world-famous triathlon! In addition to directly supporting San Francisco youth by joining our Team R.O.C.K.\, you’ll also receive:\n\n  \n\nHands-on fundraising support and guidance from R.O.C.K.’s Associate Director of Development\nYour own customizable fundraising page to track your progress\nCustom R.O.C.K. jersey for all team members\nSupport from a team of like-minded athletes\nChance to win Top Fundraiser prizes\, including Hornblower Cruises during race weekend\n\n  \nThe 2026 race will take place on Sunday\, June 7\, 2026. As with all charity partners\, the minimum fundraising goal is $2\,000. We know you need to focus on your training\, so you’ll receive all the support you need to reach this goal\, along with a direct line to the fundraising team and tips for success along the way. If you’re interested in joining Team R.O.C.K. this year\, please reach out to hayley@rocksf.org. Don’t wait—spots are filling quickly! \n\n\nReal Options for City Kids (R.O.C.K.) is the only Escape from Alcatraz Triathlon Charity partner that serves San Francisco youth. Learn more about how R.O.C.K. keeps San Francisco youth healthy\, safe\, and active through our sports and recreation based programs.\n
URL:https://rocksf.org/event/team-r-o-c-k-escape-from-alcatraz-triathlon-2026/
END:VEVENT
END:VCALENDAR